BEGIN:VCALENDAR
VERSION:2.0
PRODID:-//wp-events-plugin.com//7.2.3.1//EN
TZID:America/Los_Angeles
X-WR-TIMEZONE:America/Los_Angeles
BEGIN:VEVENT
UID:2228@whitlocks.com
DTSTART;TZID=America/Los_Angeles:20170309T090000
DTEND;TZID=America/Los_Angeles:20170311T160000
DTSTAMP:20240831T033310Z
URL:https://whitlocks.com/events/whitlocks-handi-quilter-university/
SUMMARY:WHITLOCK'S HANDI QUILTER UNIVERSITY
DESCRIPTION:Join Kelly Ashton\, Handi Quilter National/International Educat
 or and Mary Fisher\, Handi Quilter Instructor for this 3-day University. 
  You will not want to miss this opportunity.\n\nCall Whitlocks at 503-585
 -7771 to register.  Seating is Limited.\n\n&nbsp\;\n\n&nbsp\;\n\n\n\n&nbs
 p\;\n\n&nbsp\;
ATTACH;FMTTYPE=image/jpeg:https://whitlocks.com/wp-content/uploads/2013/05
 /HandiQuilter_Brand_Logo.png
CATEGORIES:Handi Quilter
LOCATION:Whitlocks\, 455 Court St Ne\, Salem\, Oregon\, 97301\, United Stat
 es
GEO:44.940983;-123.037216
X-APPLE-STRUCTURED-LOCATION;VALUE=URI;X-ADDRESS=455 Court St Ne\, Salem\, O
 regon\, 97301\, United States;X-APPLE-RADIUS=100;X-TITLE=Whitlocks:geo:44.
 940983,-123.037216
END:VEVENT
BEGIN:VTIMEZONE
TZID:America/Los_Angeles
X-LIC-LOCATION:America/Los_Angeles
BEGIN:STANDARD
DTSTART:20161106T010000
TZOFFSETFROM:-0700
TZOFFSETTO:-0800
TZNAME:PST
END:STANDARD
END:VTIMEZONE
END:VCALENDAR