BEGIN:VCALENDAR
VERSION:2.0
PRODID:-//wp-events-plugin.com//7.2.3.1//EN
TZID:America/Los_Angeles
X-WR-TIMEZONE:America/Los_Angeles
BEGIN:VEVENT
UID:2784@whitlocks.com
DTSTART;TZID=America/Los_Angeles:20190126T100000
DTEND;TZID=America/Los_Angeles:20190126T130000
DTSTAMP:20181205T015729Z
URL:https://whitlocks.com/events/northern-lights-2/
SUMMARY:NORTHERN LIGHTS
DESCRIPTION:Instructor:  Sally Blankenship\n\nThis is another use for the 
 versatile Hex N More ruler by Jaybird Quilts.\n\nFor this pattern\, we'll 
 make half-hexies.  It's fast\, fun and easy without any "Y" seams!\n\nGoo
 d project for a strong beginner and beyond.  The Northern Lights pattern 
 gives\nyardage requirements for quilts baby to king size.\n\nNorthern Ligh
 ts Pattern and Hex N More Ruler are available in store.
ATTACH;FMTTYPE=image/jpeg:https://whitlocks.com/wp-content/uploads/2018/08
 /Northern-Lights.png
CATEGORIES:Quilt Classes,Quilts
LOCATION:Whitlocks\, 455 Court St Ne\, Salem\, Oregon\, 97301\, United Stat
 es
GEO:44.940983;-123.037216
X-APPLE-STRUCTURED-LOCATION;VALUE=URI;X-ADDRESS=455 Court St Ne\, Salem\, O
 regon\, 97301\, United States;X-APPLE-RADIUS=100;X-TITLE=Whitlocks:geo:44.
 940983,-123.037216
END:VEVENT
BEGIN:VTIMEZONE
TZID:America/Los_Angeles
X-LIC-LOCATION:America/Los_Angeles
BEGIN:STANDARD
DTSTART:20181104T010000
TZOFFSETFROM:-0700
TZOFFSETTO:-0800
TZNAME:PST
END:STANDARD
END:VTIMEZONE
END:VCALENDAR