BEGIN:VCALENDAR
VERSION:2.0
PRODID:-//wp-events-plugin.com//7.2.3.1//EN
TZID:America/Los_Angeles
X-WR-TIMEZONE:America/Los_Angeles
BEGIN:VEVENT
UID:3016@whitlocks.com
DTSTART;TZID=America/Los_Angeles:20191108T150000
DTEND;TZID=America/Los_Angeles:20191108T180000
DTSTAMP:20190904T205712Z
URL:https://whitlocks.com/events/longarm-basics-4/
SUMMARY:LONGARM BASICS
DESCRIPTION:Instructor:  Yvonne Katsinis\n\n&nbsp\;\n\nThis class is desig
 ned for new owners.  We will cover threading your machines\,\n\nchanging 
 needles\, loading your quilt\, and answer your questions.\n\n&nbsp\;\n\nCo
 st:  $20\n\nFree with Map\n\n&nbsp\;
ATTACH;FMTTYPE=image/jpeg:https://whitlocks.com/wp-content/uploads/2016/11
 /whitlocks.png
CATEGORIES:Quilts,Technique Classes
LOCATION:Whitlocks\, 455 Court St Ne\, Salem\, Oregon\, 97301\, United Stat
 es
GEO:44.940983;-123.037216
X-APPLE-STRUCTURED-LOCATION;VALUE=URI;X-ADDRESS=455 Court St Ne\, Salem\, O
 regon\, 97301\, United States;X-APPLE-RADIUS=100;X-TITLE=Whitlocks:geo:44.
 940983,-123.037216
END:VEVENT
BEGIN:VTIMEZONE
TZID:America/Los_Angeles
X-LIC-LOCATION:America/Los_Angeles
BEGIN:STANDARD
DTSTART:20191103T010000
TZOFFSETFROM:-0700
TZOFFSETTO:-0800
TZNAME:PST
END:STANDARD
END:VTIMEZONE
END:VCALENDAR