BEGIN:VCALENDAR
VERSION:2.0
PRODID:-//wp-events-plugin.com//7.2.3.1//EN
TZID:America/Los_Angeles
X-WR-TIMEZONE:America/Los_Angeles
BEGIN:VEVENT
UID:3158@whitlocks.com
DTSTART;TZID=America/Los_Angeles:20230316T090000
DTEND;TZID=America/Los_Angeles:20230316T160000
DTSTAMP:20230210T225018Z
URL:https://whitlocks.com/events/handi-quilter-hands-on-van-event-day-3/
SUMMARY:Handi Quilter Hands-On Van Event-Day 3
DESCRIPTION:Check our our special bundle pricing options!\nFor more informa
 tion and a downloadable flyer click here.\nThis Hands-On Event will be hel
 d at the Scottish Rite Center\, 4090 Commercial Street SE\, Salem     \
 n\n&nbsp\;\nDay 3\nALL DAY\n9:00 to 4:00\nCOST:  $150\n\nPRO-STITCHER BAS
 ICS HANDS ON\n\nClass Description: Pro-Stitcher is an intuitive computer-g
 uided quilting system designed especially for use with Handi Quilter longa
 rm quilting machines. User-friendly and simple to operate\, the step- by-s
 tep process for each function is easy and fun. Whether finishing your own 
 quilts or consider a quilting business\, come see the elegant and precise 
 quilting you can accomplish with Pro-Stitcher. New users – start here!
ATTACH;FMTTYPE=image/jpeg:https://whitlocks.com/wp-content/uploads/2023/02
 /HANDI-QUILTER-HANDS-ON-VAN-EVENT.png
CATEGORIES:Handi Quilter,Events
END:VEVENT
BEGIN:VTIMEZONE
TZID:America/Los_Angeles
X-LIC-LOCATION:America/Los_Angeles
BEGIN:DAYLIGHT
DTSTART:20230312T030000
TZOFFSETFROM:-0800
TZOFFSETTO:-0700
TZNAME:PDT
END:DAYLIGHT
END:VTIMEZONE
END:VCALENDAR