BEGIN:VCALENDAR
VERSION:2.0
PRODID:-//wp-events-plugin.com//7.2.3.1//EN
TZID:America/Los_Angeles
X-WR-TIMEZONE:America/Los_Angeles
BEGIN:VEVENT
UID:2546@whitlocks.com
DTSTART;TZID=America/Los_Angeles:20180225T140000
DTEND;TZID=America/Los_Angeles:20180225T160000
DTSTAMP:20171206T235014Z
URL:https://whitlocks.com/events/beginner-pillowcases/
SUMMARY:BEGINNER PILLOWCASES
DESCRIPTION:Educator: Janae King\n\n&nbsp\;\n\n&nbsp\;\n\nThis class is for
  Ages 12 and up.\n\nLearn how to make this very easy standard size pillowc
 ase.  Once you master the technique\, you can design and make pillowcases
  of different sizes.\n\nFREE PATTERN PROVIDED AT TIME OF CLASS
ATTACH;FMTTYPE=image/jpeg:https://whitlocks.com/wp-content/uploads/2017/12
 /Janae-Pillow.jpg
CATEGORIES:Children's Sewing Classes,Creativity Classes
LOCATION:Whitlocks\, 455 Court St Ne\, Salem\, Oregon\, 97301\, United Stat
 es
GEO:44.940983;-123.037216
X-APPLE-STRUCTURED-LOCATION;VALUE=URI;X-ADDRESS=455 Court St Ne\, Salem\, O
 regon\, 97301\, United States;X-APPLE-RADIUS=100;X-TITLE=Whitlocks:geo:44.
 940983,-123.037216
END:VEVENT
BEGIN:VTIMEZONE
TZID:America/Los_Angeles
X-LIC-LOCATION:America/Los_Angeles
BEGIN:STANDARD
DTSTART:20171105T010000
TZOFFSETFROM:-0700
TZOFFSETTO:-0800
TZNAME:PST
END:STANDARD
END:VTIMEZONE
END:VCALENDAR