BEGIN:VCALENDAR
VERSION:2.0
PRODID:-//wp-events-plugin.com//7.2.3.1//EN
TZID:America/Los_Angeles
X-WR-TIMEZONE:America/Los_Angeles
BEGIN:VEVENT
UID:2861@whitlocks.com
DTSTART;TZID=America/Los_Angeles:20190807T140000
DTEND;TZID=America/Los_Angeles:20190807T160000
DTSTAMP:20190502T153418Z
URL:https://whitlocks.com/events/art-n-stitch-class-2/
SUMMARY:ART N STITCH CLASS
DESCRIPTION:Educator: Amy Domke\n\n&nbsp\;\n\n&nbsp\;\n\nAmy will take the 
 mystery out of the Art N Stitch digitizer program.  Each class will build
  on the previous class.  Please bring tablets or laptop loaded with the s
 imulator.\n\n&nbsp\;\n\nBundle Price for Advanced Pro-Stitcher AND Art N S
 titch.  Sign up for both.  Cost is $75.\n\n
ATTACH;FMTTYPE=image/jpeg:https://whitlocks.com/wp-content/uploads/2017/01
 /Handi-Quilter-Logo.jpg
CATEGORIES:Clubs,Club HandiQuilter
LOCATION:Whitlocks\, 455 Court St Ne\, Salem\, Oregon\, 97301\, United Stat
 es
GEO:44.940983;-123.037216
X-APPLE-STRUCTURED-LOCATION;VALUE=URI;X-ADDRESS=455 Court St Ne\, Salem\, O
 regon\, 97301\, United States;X-APPLE-RADIUS=100;X-TITLE=Whitlocks:geo:44.
 940983,-123.037216
END:VEVENT
BEGIN:VTIMEZONE
TZID:America/Los_Angeles
X-LIC-LOCATION:America/Los_Angeles
BEGIN:DAYLIGHT
DTSTART:20190310T030000
TZOFFSETFROM:-0800
TZOFFSETTO:-0700
TZNAME:PDT
END:DAYLIGHT
END:VTIMEZONE
END:VCALENDAR