BEGIN:VCALENDAR
VERSION:2.0
PRODID:-//wp-events-plugin.com//7.2.3.1//EN
TZID:America/Los_Angeles
X-WR-TIMEZONE:America/Los_Angeles
BEGIN:VEVENT
UID:2565@whitlocks.com
DTSTART;TZID=America/Los_Angeles:20180313T180000
DTEND;TZID=America/Los_Angeles:20180313T210000
DTSTAMP:20171207T005856Z
URL:https://whitlocks.com/events/arrows-quilt-2/
SUMMARY:ARROWS QUILT
DESCRIPTION:Instructor:  Sally Blankenship\n\n&nbsp\;\n\nThis is a fun eas
 y block.  A great way to use a layer cake or use up all those scraps.\n\n
 Experience Level:  Beginner + (Made at least 1 to 2 quilts)\n\nPattern wi
 ll be supplied in class.\n\n&nbsp\;
ATTACH;FMTTYPE=image/jpeg:https://whitlocks.com/wp-content/uploads/2017/12
 /Sally-Arrows-1.jpg
CATEGORIES:Quilt Classes
LOCATION:Whitlocks\, 455 Court St Ne\, Salem\, Oregon\, 97301\, United Stat
 es
GEO:44.940983;-123.037216
X-APPLE-STRUCTURED-LOCATION;VALUE=URI;X-ADDRESS=455 Court St Ne\, Salem\, O
 regon\, 97301\, United States;X-APPLE-RADIUS=100;X-TITLE=Whitlocks:geo:44.
 940983,-123.037216
END:VEVENT
BEGIN:VTIMEZONE
TZID:America/Los_Angeles
X-LIC-LOCATION:America/Los_Angeles
BEGIN:DAYLIGHT
DTSTART:20180311T030000
TZOFFSETFROM:-0800
TZOFFSETTO:-0700
TZNAME:PDT
END:DAYLIGHT
END:VTIMEZONE
END:VCALENDAR