BEGIN:VCALENDAR
VERSION:2.0
PRODID:-//wp-events-plugin.com//7.2.3.1//EN
TZID:America/Los_Angeles
X-WR-TIMEZONE:America/Los_Angeles
BEGIN:VEVENT
UID:2797@whitlocks.com
DTSTART;TZID=America/Los_Angeles:20190309T130000
DTEND;TZID=America/Los_Angeles:20190309T160000
DTSTAMP:20181205T032812Z
URL:http://whitlocks.com/events/sewing-with-knits-session-2/
SUMMARY:Sewing with Knits-Session 2
DESCRIPTION:Instructor: Brigitte de Valois\nClass and Kit Fees Paid at Firs
 t Meeting\n\nSaturdays 3/2/19 and 3/9/19 (2 Sessions)\n\nIn this 2 part cl
 ass we will cover the basics of sewing with knits. You will learn to sew a
  simple t-shirt.\n\nBring your sewing machines with manuals\, pins\, sciss
 ors\, and thread as we will be working on an actual project.\n\n&nbsp\;\n\
 nSupply List Available\n\nMust have taken Beginning sewing series or have 
 basic sewing experience.\n\n&nbsp\;\n\n&nbsp\;
ATTACH;FMTTYPE=image/jpeg:http://whitlocks.com/wp-content/uploads/2018/12/
 sewing-with-knit.jpg
CATEGORIES:Sewing,Garment
LOCATION:Whitlocks\, 455 Court St Ne\, Salem\, Oregon\, 97301\, United Stat
 es
GEO:44.940983;-123.037216
X-APPLE-STRUCTURED-LOCATION;VALUE=URI;X-ADDRESS=455 Court St Ne\, Salem\, O
 regon\, 97301\, United States;X-APPLE-RADIUS=100;X-TITLE=Whitlocks:geo:44.
 940983,-123.037216
END:VEVENT
BEGIN:VTIMEZONE
TZID:America/Los_Angeles
X-LIC-LOCATION:America/Los_Angeles
BEGIN:STANDARD
DTSTART:20181104T010000
TZOFFSETFROM:-0700
TZOFFSETTO:-0800
TZNAME:PST
END:STANDARD
END:VTIMEZONE
END:VCALENDAR